BEGIN:VCALENDAR
VERSION:2.0
PRODID:icalendar-ruby
CALSCALE:GREGORIAN
BEGIN:VEVENT
DTSTAMP:20210119T034452Z
UID:7df28f74-86a9-4f09-9b0c-4f3843c9255d
DTSTART;VALUE=DATE:20210120
DESCRIPTION:Property ID# 498883\, Locatoin: Harcourts Auction Rooms\, Coast
 lands Parade\, Paraparaumu\, Time: 3:00PM
SUMMARY:Auction for 58 Arcus Road\, Te Horo
END:VEVENT
END:VCALENDAR
